BEGIN:VCALENDAR
VERSION:2.0
PRODID:-//hacksw/handcal//NONSGML v1.0//EN
CALSCALE:GREGORIAN
BEGIN:VEVENT
LOCATION:Cappella del Seminario Torres di Monreale
DESCRIPTION:Rispondimi bellezza
DTSTART:20211023T170000
DTEND:20211023T181000
SUMMARY:63ma Settimana Internazionale di Musica Sacra di Monreale    Ensemble Nova Musica  
URL;VALUE=URI:https://orchestrasinfonicasiciliana.it/it/attivita/tour/rispondimi-bellezza
DTSTAMP:20260419T150541
UID:69e4d325df193
END:VEVENT
END:VCALENDAR