BEGIN:VCALENDAR
VERSION:2.0
PRODID:-//hacksw/handcal//NONSGML v1.0//EN
CALSCALE:GREGORIAN
BEGIN:VEVENT
LOCATION:Politeama Garibaldi - Palermo
DESCRIPTION:Rota/Visconti
DTSTART:20240316T173000
DTEND:20240316T184000
SUMMARY:Luciano Acocella\, direttore    Maurizio Baglini\, pianoforte  
URL;VALUE=URI:https://orchestrasinfonicasiciliana.it/it/attivita/stagione/rotavisconti
DTSTAMP:20260425T124413
UID:69ec9afdaa499
END:VEVENT
END:VCALENDAR