BEGIN:VCALENDAR
VERSION:2.0
PRODID:-//hacksw/handcal//NONSGML v1.0//EN
CALSCALE:GREGORIAN
BEGIN:VEVENT
LOCATION:Politeama Garibaldi - Palermo
DESCRIPTION:Stravinskij/Mendelssohn /Dvořák
DTSTART:20260123T203000
DTEND:20260123T220000
SUMMARY:GIULIO ARNOFI direttore
URL;VALUE=URI:https://orchestrasinfonicasiciliana.it/it/attivita/stagione/stravinskijmendelssohn-dvorak
DTSTAMP:20260425T055300
UID:69ec3a9c59747
END:VEVENT
END:VCALENDAR