BEGIN:VCALENDAR
VERSION:2.0
PRODID:-//hacksw/handcal//NONSGML v1.0//EN
CALSCALE:GREGORIAN
BEGIN:VEVENT
LOCATION:Politeama Garibaldi - Palermo
DESCRIPTION:Freidlin/Debussy/ Wagner
DTSTART:20260213T203000
DTEND:20260213T220000
SUMMARY:OKSANA LYNIV direttriceANDRII MURZA violinoRICCARDO SCILIPOTI pianoforte
URL;VALUE=URI:https://orchestrasinfonicasiciliana.it/it/attivita/stagione/freidlindebussy-wagner
DTSTAMP:20260422T085312
UID:69e87058ca3a4
END:VEVENT
END:VCALENDAR