BEGIN:VCALENDAR
VERSION:2.0
PRODID:-//hacksw/handcal//NONSGML v1.0//EN
CALSCALE:GREGORIAN
BEGIN:VEVENT
LOCATION:Politeama Garibaldi - Palermo
DESCRIPTION:Freidlin/Debussy/ Wagner
DTSTART:20260214T173000
DTEND:20260214T190000
SUMMARY:OKSANA LYNIV direttriceANDRII MURZA violinoRICCARDO SCILIPOTI pianoforte
URL;VALUE=URI:https://orchestrasinfonicasiciliana.it/it/attivita/stagione/freidlindebussy-wagner-0
DTSTAMP:20260422T085629
UID:69e8711dd34e0
END:VEVENT
END:VCALENDAR