BEGIN:VCALENDAR
VERSION:2.0
PRODID:-//hacksw/handcal//NONSGML v1.0//EN
CALSCALE:GREGORIAN
BEGIN:VEVENT
LOCATION:Politeama Garibaldi - Palermo
DESCRIPTION:Saint-Saëns/ Bartók/Enescu
DTSTART:20260424T203000
DTEND:20260424T215000
SUMMARY:GAETANO D’ESPINOSA direttoreLOUIS LORTIE pianoforte
URL;VALUE=URI:https://orchestrasinfonicasiciliana.it/it/attivita/stagione/saint-saens-bartokenescu
DTSTAMP:20260424T180637
UID:69eb950d25433
END:VEVENT
END:VCALENDAR