BEGIN:VCALENDAR
VERSION:2.0
PRODID:-//hacksw/handcal//NONSGML v1.0//EN
CALSCALE:GREGORIAN
BEGIN:VEVENT
LOCATION:Politeama Garibaldi - Palermo
DESCRIPTION:Bruckner
DTSTART:20260502T173000
DTEND:20260502T185100
SUMMARY:DONATO RENZETTI direttore
URL;VALUE=URI:https://orchestrasinfonicasiciliana.it/it/attivita/stagione/bruckner-0
DTSTAMP:20260424T180319
UID:69eb944740470
END:VEVENT
END:VCALENDAR